BEGIN:VCALENDAR
VERSION:2.0
PRODID:-//BDEF - Bundesverband Deutscher Eisenbahn-Freunde e.V. - ECPv6.15.20//NONSGML v1.0//EN
CALSCALE:GREGORIAN
METHOD:PUBLISH
X-ORIGINAL-URL:https://www.bdef.de
X-WR-CALDESC:Veranstaltungen für BDEF - Bundesverband Deutscher Eisenbahn-Freunde e.V.
REFRESH-INTERVAL;VALUE=DURATION:PT1H
X-Robots-Tag:noindex
X-PUBLISHED-TTL:PT1H
BEGIN:VTIMEZONE
TZID:Europe/Helsinki
BEGIN:DAYLIGHT
TZOFFSETFROM:+0200
TZOFFSETTO:+0300
TZNAME:EEST
DTSTART:20250330T010000
END:DAYLIGHT
BEGIN:STANDARD
TZOFFSETFROM:+0300
TZOFFSETTO:+0200
TZNAME:EET
DTSTART:20251026T010000
END:STANDARD
BEGIN:DAYLIGHT
TZOFFSETFROM:+0200
TZOFFSETTO:+0300
TZNAME:EEST
DTSTART:20260329T010000
END:DAYLIGHT
BEGIN:STANDARD
TZOFFSETFROM:+0300
TZOFFSETTO:+0200
TZNAME:EET
DTSTART:20261025T010000
END:STANDARD
BEGIN:DAYLIGHT
TZOFFSETFROM:+0200
TZOFFSETTO:+0300
TZNAME:EEST
DTSTART:20270328T010000
END:DAYLIGHT
BEGIN:STANDARD
TZOFFSETFROM:+0300
TZOFFSETTO:+0200
TZNAME:EET
DTSTART:20271031T010000
END:STANDARD
END:VTIMEZONE
BEGIN:VTIMEZONE
TZID:Europe/Berlin
BEGIN:DAYLIGHT
TZOFFSETFROM:+0100
TZOFFSETTO:+0200
TZNAME:CEST
DTSTART:20240331T010000
END:DAYLIGHT
BEGIN:STANDARD
TZOFFSETFROM:+0200
TZOFFSETTO:+0100
TZNAME:CET
DTSTART:20241027T010000
END:STANDARD
BEGIN:DAYLIGHT
TZOFFSETFROM:+0100
TZOFFSETTO:+0200
TZNAME:CEST
DTSTART:20250330T010000
END:DAYLIGHT
BEGIN:STANDARD
TZOFFSETFROM:+0200
TZOFFSETTO:+0100
TZNAME:CET
DTSTART:20251026T010000
END:STANDARD
BEGIN:DAYLIGHT
TZOFFSETFROM:+0100
TZOFFSETTO:+0200
TZNAME:CEST
DTSTART:20260329T010000
END:DAYLIGHT
BEGIN:STANDARD
TZOFFSETFROM:+0200
TZOFFSETTO:+0100
TZNAME:CET
DTSTART:20261025T010000
END:STANDARD
BEGIN:DAYLIGHT
TZOFFSETFROM:+0100
TZOFFSETTO:+0200
TZNAME:CEST
DTSTART:20270328T010000
END:DAYLIGHT
BEGIN:STANDARD
TZOFFSETFROM:+0200
TZOFFSETTO:+0100
TZNAME:CET
DTSTART:20271031T010000
END:STANDARD
END:VTIMEZONE
BEGIN:VEVENT
DTSTART;VALUE=DATE:20260416
DTEND;VALUE=DATE:20260420
DTSTAMP:20260421T105544
CREATED:20250723T164920Z
LAST-MODIFIED:20250920T104002Z
UID:362-1776297600-1776643199@www.bdef.de
SUMMARY:Intermodellbau mit JuniorCollegeEuropa
DESCRIPTION:Zu Lande\, zu Wasser\, in der Luft und auf Schienen: Die INTERMODELLBAU bietet alles\, was das Modellbau-Herz begehrt. Kreative\, inspirierende Anlagen und Dioramen von hunderten Ausstellenden aus verschieden Nationen\, detailgetreue Modelle in allen Maßstäben\, technische Feinheiten\, spannende und atemberaubende Shows und ein unvergessliches Lernerlebnis für junge und erwachsene Modellbauer – unabhängig vom Erfahrungsschatz.
URL:https://www.bdef.de/termine/intermodellbau-mit-juniorcollegeeuropa/
LOCATION:Westfalenhalle\, Rheinlanddamm 200\, Dortmund\, 44139
CATEGORIES:BDEF Teilnahme,Messe
ATTACH;FMTTYPE=image/png:https://www.bdef.de/wp-content/uploads/Intermodellbau.png
END:VEVENT
BEGIN:VEVENT
DTSTART;TZID=Europe/Berlin:20260321T110000
DTEND;TZID=Europe/Berlin:20260322T180000
DTSTAMP:20260421T105544
CREATED:20260211T174938Z
LAST-MODIFIED:20260211T174938Z
UID:2075-1774090800-1774202400@www.bdef.de
SUMMARY:Modellbahnausstellung des MEC Esslingen e.V.
DESCRIPTION:Gezeigt werden verschiedene Modellbahnanlagen mit verschiedenen Spurweiten und Maßstäben am 21.3. und 22.3. 2026 in der Sporthalle unserer Nachbargemeinde 73776 Altbach \nGeöffnet haben wir jeweils Samstag: 11.00 – 18:00 Uhr und am Sonntag: 11.00 – 18:00 Uhr \nWeiter Details im Web: www.mecesslingen.de
URL:https://www.bdef.de/termine/modellbahnausstellung-des-mec-esslingen-e-v/
LOCATION:Sporthalle Altbach\, Esslinger Straße 90\, Altbach\, 73776
CATEGORIES:Ausstellung
ATTACH;FMTTYPE=image/png:https://www.bdef.de/wp-content/uploads/Ausstellung2026.png
END:VEVENT
BEGIN:VEVENT
DTSTART;VALUE=DATE:20260321
DTEND;VALUE=DATE:20260323
DTSTAMP:20260421T105544
CREATED:20251213T114110Z
LAST-MODIFIED:20260119T070945Z
UID:2013-1774051200-1774223999@www.bdef.de
SUMMARY:Internationale Spur 0 und Spur 1 Tage in Gießen
DESCRIPTION:Im März 2026 treffen sich wieder die Freunde der großen Maßstäbe der Modelleisenbahn Spur Null und der Spur 1 den Messehallen Gießen \nSamstag: 10.00 – 18:00 Uhr\nSonntag: 10.00 – 16:00 Uhr
URL:https://www.bdef.de/termine/internationale-spur-0-und-spur-1-tage-in-giessen/
LOCATION:Messe Giessen (Hessenhallen)\, An der Hessenhalle 11\, Gießen\, 35398
CATEGORIES:BDEF Teilnahme,Messe
ATTACH;FMTTYPE=image/jpeg:https://www.bdef.de/wp-content/uploads/internationale-spur-0_1-tage.jpg
END:VEVENT
BEGIN:VEVENT
DTSTART;VALUE=DATE:20260306
DTEND;VALUE=DATE:20260309
DTSTAMP:20260421T105544
CREATED:20250723T164613Z
LAST-MODIFIED:20250920T103931Z
UID:359-1772755200-1773014399@www.bdef.de
SUMMARY:Faszination Modellbahn mit JuniorCollegeEuropa
DESCRIPTION:Die FASZINATION MODELLBAHN IN MANNHEIM bietet glühenden Modellbahn-Fans 100% Modelleisenbahn und ist internationaler Treffpunkt der Community. Neben vielen extravaganten Modellbahn-Anlagen in allen Spurweiten darf sich der passionierte Modellbahn-Fan wie immer ganz besonders auf die spezialisierten Kleinserien-Hersteller und namhaften Aussteller mit ihren brandneuen Produkten und top-aktuellen Branchen-Neuheiten freuen.
URL:https://www.bdef.de/termine/faszination-modellbahn-mit-juniorcollegeeuropa/
LOCATION:Maimarkthalle Mannheim\, Xaver-Fuhr-Straße 101\, Mannheim\, 68163
CATEGORIES:BDEF Teilnahme,Messe
ATTACH;FMTTYPE=image/png:https://www.bdef.de/wp-content/uploads/Mannheim.png
END:VEVENT
BEGIN:VEVENT
DTSTART;TZID=Europe/Berlin:20260201T100000
DTEND;TZID=Europe/Berlin:20260201T160000
DTSTAMP:20260421T105544
CREATED:20251103T160326Z
LAST-MODIFIED:20251103T160326Z
UID:1906-1769940000-1769961600@www.bdef.de
SUMMARY:Modelleisenbahnausstellung der PMW Winnenden
DESCRIPTION:Eintrittspreise: Erwachsene 6\,00 EUR\nKinder bis 5 Jahre Freitag Kinder (6-14 Jahre) 1\,50 EUR\nFamilienkarte für 2 Eltern/Großeltern mit max. 4 Kindern bis 14 Jahre 13\,00 EUR
URL:https://www.bdef.de/termine/modelleisenbahnausstellung-der-pmw-winnenden-14/
LOCATION:Vereinsheim PMW Winnenden e.V.\, Daimlerstr. 12\, Winnenden\, 71364
CATEGORIES:Fahrtag,Tag der offenen Tür
ATTACH;FMTTYPE=image/jpeg:https://www.bdef.de/wp-content/uploads/PMW.jpg
END:VEVENT
BEGIN:VEVENT
DTSTART;TZID=Europe/Berlin:20260201T090000
DTEND;TZID=Europe/Berlin:20260201T130000
DTSTAMP:20260421T105544
CREATED:20260119T070815Z
LAST-MODIFIED:20260119T071000Z
UID:2040-1769936400-1769950800@www.bdef.de
SUMMARY:Modellbahn & Modellautobörse in Dreetz
DESCRIPTION:Eintritt: Erwachsene 3 Euro\, Kinder frei
URL:https://www.bdef.de/termine/modellbahn-modellautoboerse-in-dreetz/
LOCATION:Zum Palast\, Bartschendorfer Str.14\, Dreetz\, 16845
CATEGORIES:Börse
END:VEVENT
BEGIN:VEVENT
DTSTART;TZID=Europe/Berlin:20260125T100000
DTEND;TZID=Europe/Berlin:20260125T170000
DTSTAMP:20260421T105544
CREATED:20251017T064416Z
LAST-MODIFIED:20251017T064416Z
UID:1762-1769335200-1769360400@www.bdef.de
SUMMARY:Modellbahn im Betrieb beim MEC Stuttgart
DESCRIPTION:Üblicher­weise öffnen wir an fünf Tagen zu Weih­nachten unsere Club­räume mit der großen Modell­bahn­anlage für Besucher. Auf der Club­anlage findet dann ein reger Fahr­betrieb mit 80 bis 90 Zuggarnituren über­wiegend aus den Epochen III und IV statt. Aber auch Züge aus anderen Epochen verkehren zwischen den Bahnhöfen. \nDas Team in unserem Café Gleisblick bewirtet sie gerne. Wir bieten warme und kalte Getränke sowie selbst gebackene Kuchen an. Unsere Küche zaubert auch kleine warme Gerichte für sie\, wie z.B. Saiten­würstchen\, Maul­taschen oder Fleisch­käse mit Kartoffel­salat. Von den vorderen Plätzen haben Sie eine schöne Panoram­aaus­sicht über unsere Modellbahn­anlage. \nZu den Vorführ­tagen haben wir auch einen kleinen Modellbahn-Basar eingerichtet. Hier bieten wir gebrauchte Fahr­zeuge und Haus­bau­sätze in den Spuren H0\, N und Z an. Zudem können Sie hier unsere selbst­ ent­wickelte Zugschluss­beleuchtung\, unsere Servo-Ansteuerung und unsere Gleis­belegt­meldung als Bausatz erwerben. \nÖffnungszeiten jeweils 10 – 17 Uhr
URL:https://www.bdef.de/termine/modellbahn-im-betrieb-beim-mec-stuttgart-5/
LOCATION:S-Bahn-Station Universität Stuttgart-Vaihingen\, Universitätsstraße\, Stuttgart-Vaihingen
CATEGORIES:Fahrtag
ATTACH;FMTTYPE=image/jpeg:https://www.bdef.de/wp-content/uploads/MEC-Stuttgart.jpg
END:VEVENT
BEGIN:VEVENT
DTSTART;TZID=Europe/Berlin:20260125T100000
DTEND;TZID=Europe/Berlin:20260125T160000
DTSTAMP:20260421T105544
CREATED:20251103T160312Z
LAST-MODIFIED:20251103T160312Z
UID:1905-1769335200-1769356800@www.bdef.de
SUMMARY:Modelleisenbahnausstellung der PMW Winnenden
DESCRIPTION:Eintrittspreise: Erwachsene 6\,00 EUR\nKinder bis 5 Jahre Freitag Kinder (6-14 Jahre) 1\,50 EUR\nFamilienkarte für 2 Eltern/Großeltern mit max. 4 Kindern bis 14 Jahre 13\,00 EUR
URL:https://www.bdef.de/termine/modelleisenbahnausstellung-der-pmw-winnenden-13/
LOCATION:Vereinsheim PMW Winnenden e.V.\, Daimlerstr. 12\, Winnenden\, 71364
CATEGORIES:Fahrtag,Tag der offenen Tür
ATTACH;FMTTYPE=image/jpeg:https://www.bdef.de/wp-content/uploads/PMW.jpg
END:VEVENT
BEGIN:VEVENT
DTSTART;TZID=Europe/Berlin:20260124T133000
DTEND;TZID=Europe/Berlin:20260125T163000
DTSTAMP:20260421T105544
CREATED:20251224T123802Z
LAST-MODIFIED:20251224T123824Z
UID:2019-1769261400-1769358600@www.bdef.de
SUMMARY:Fahrtage der Eisenbahnfreunde Lichtenfels e.V.
DESCRIPTION:Die Fahrtage finden am 24.01.2026 von 13:30-16:30 und am Sonntag von 9:30-12:30 und 13:30-16:30 Uhr in unserem Stellwerk 5 und in der neuen Modellbahnhalle statt. \nDer Eintrittspreis beträg für beide Austellungen (Stw und Modellbahnhalle):\nErwachsene                            8\,00€\nKinder (6 bis 14 Jahre)          3\,00€\nKinder unter 6 Jahren haben bei uns freien Eintritt. \nNach dem Bestaunen der Modellbahnanlagen können Sie im Vereinszimmer des Stellwerkes die Aussicht über den Bahnhof Lichtenfels und den Blick auf die Stadt Lichtenfels genießen. Hier wird auch bestens für Ihr leibliches Wohl gesorgt. Hunde müssen leider draußen bleiben.
URL:https://www.bdef.de/termine/fahrtage-der-eisenbahnfreunde-lichtenfels-e-v/
LOCATION:Vereinsheim Eisenbahnfreunde Lichtenfels e.V.\, Mühlgasse 9\, Lichtenfels\, 96215
CATEGORIES:Fahrtag
ATTACH;FMTTYPE=image/jpeg:https://www.bdef.de/wp-content/uploads/26-002.jpg
END:VEVENT
BEGIN:VEVENT
DTSTART;TZID=Europe/Berlin:20260118T100000
DTEND;TZID=Europe/Berlin:20260118T160000
DTSTAMP:20260421T105544
CREATED:20251103T160257Z
LAST-MODIFIED:20251103T160257Z
UID:1904-1768730400-1768752000@www.bdef.de
SUMMARY:Modelleisenbahnausstellung der PMW Winnenden
DESCRIPTION:Eintrittspreise: Erwachsene 6\,00 EUR\nKinder bis 5 Jahre Freitag Kinder (6-14 Jahre) 1\,50 EUR\nFamilienkarte für 2 Eltern/Großeltern mit max. 4 Kindern bis 14 Jahre 13\,00 EUR
URL:https://www.bdef.de/termine/modelleisenbahnausstellung-der-pmw-winnenden-12/
LOCATION:Vereinsheim PMW Winnenden e.V.\, Daimlerstr. 12\, Winnenden\, 71364
CATEGORIES:Fahrtag,Tag der offenen Tür
ATTACH;FMTTYPE=image/jpeg:https://www.bdef.de/wp-content/uploads/PMW.jpg
END:VEVENT
BEGIN:VEVENT
DTSTART;TZID=Europe/Berlin:20260111T100000
DTEND;TZID=Europe/Berlin:20260111T170000
DTSTAMP:20260421T105544
CREATED:20251017T064406Z
LAST-MODIFIED:20251017T064406Z
UID:1761-1768125600-1768150800@www.bdef.de
SUMMARY:Modellbahn im Betrieb beim MEC Stuttgart
DESCRIPTION:Üblicher­weise öffnen wir an fünf Tagen zu Weih­nachten unsere Club­räume mit der großen Modell­bahn­anlage für Besucher. Auf der Club­anlage findet dann ein reger Fahr­betrieb mit 80 bis 90 Zuggarnituren über­wiegend aus den Epochen III und IV statt. Aber auch Züge aus anderen Epochen verkehren zwischen den Bahnhöfen. \nDas Team in unserem Café Gleisblick bewirtet sie gerne. Wir bieten warme und kalte Getränke sowie selbst gebackene Kuchen an. Unsere Küche zaubert auch kleine warme Gerichte für sie\, wie z.B. Saiten­würstchen\, Maul­taschen oder Fleisch­käse mit Kartoffel­salat. Von den vorderen Plätzen haben Sie eine schöne Panoram­aaus­sicht über unsere Modellbahn­anlage. \nZu den Vorführ­tagen haben wir auch einen kleinen Modellbahn-Basar eingerichtet. Hier bieten wir gebrauchte Fahr­zeuge und Haus­bau­sätze in den Spuren H0\, N und Z an. Zudem können Sie hier unsere selbst­ ent­wickelte Zugschluss­beleuchtung\, unsere Servo-Ansteuerung und unsere Gleis­belegt­meldung als Bausatz erwerben. \nÖffnungszeiten jeweils 10 – 17 Uhr
URL:https://www.bdef.de/termine/modellbahn-im-betrieb-beim-mec-stuttgart-4/
LOCATION:S-Bahn-Station Universität Stuttgart-Vaihingen\, Universitätsstraße\, Stuttgart-Vaihingen
CATEGORIES:Fahrtag
ATTACH;FMTTYPE=image/jpeg:https://www.bdef.de/wp-content/uploads/MEC-Stuttgart.jpg
END:VEVENT
BEGIN:VEVENT
DTSTART;TZID=Europe/Berlin:20260111T100000
DTEND;TZID=Europe/Berlin:20260111T160000
DTSTAMP:20260421T105544
CREATED:20251103T160242Z
LAST-MODIFIED:20251103T160242Z
UID:1903-1768125600-1768147200@www.bdef.de
SUMMARY:Modelleisenbahnausstellung der PMW Winnenden
DESCRIPTION:Eintrittspreise: Erwachsene 6\,00 EUR\nKinder bis 5 Jahre Freitag Kinder (6-14 Jahre) 1\,50 EUR\nFamilienkarte für 2 Eltern/Großeltern mit max. 4 Kindern bis 14 Jahre 13\,00 EUR
URL:https://www.bdef.de/termine/modelleisenbahnausstellung-der-pmw-winnenden-11/
LOCATION:Vereinsheim PMW Winnenden e.V.\, Daimlerstr. 12\, Winnenden\, 71364
CATEGORIES:Fahrtag,Tag der offenen Tür
ATTACH;FMTTYPE=image/jpeg:https://www.bdef.de/wp-content/uploads/PMW.jpg
END:VEVENT
BEGIN:VEVENT
DTSTART;TZID=Europe/Berlin:20260110T100000
DTEND;TZID=Europe/Berlin:20260110T150000
DTSTAMP:20260421T105544
CREATED:20251204T072336Z
LAST-MODIFIED:20260119T075646Z
UID:1979-1768039200-1768057200@www.bdef.de
SUMMARY:Modellbahnbörse der Eisenbahnfreunde Kaufbeuren e.V.
DESCRIPTION:Eintritt ist frei \nEs gibt Imbiss und Getränke in unserem EFK-Bistro \nKostenlose Parkmöglichkeiten im Parkhaus Nord „Am Kunsthaus“. \nAnsprechpartner ist Peter Hopfinger\, Tel. 08346/1331
URL:https://www.bdef.de/termine/modellbahnboerse-der-eisenbahnfreunde-kaufbeuren-e-v/
LOCATION:Haus St. Martin\, Spitaltor 4\, Kaufbeuren\, 87600
CATEGORIES:Börse
ATTACH;FMTTYPE=image/jpeg:https://www.bdef.de/wp-content/uploads/Tauschboerse-2026-Internet-002.jpg
END:VEVENT
BEGIN:VEVENT
DTSTART;TZID=Europe/Berlin:20260106T100000
DTEND;TZID=Europe/Berlin:20260106T170000
DTSTAMP:20260421T105544
CREATED:20251017T064347Z
LAST-MODIFIED:20251017T064347Z
UID:1760-1767693600-1767718800@www.bdef.de
SUMMARY:Modellbahn im Betrieb beim MEC Stuttgart
DESCRIPTION:Üblicher­weise öffnen wir an fünf Tagen zu Weih­nachten unsere Club­räume mit der großen Modell­bahn­anlage für Besucher. Auf der Club­anlage findet dann ein reger Fahr­betrieb mit 80 bis 90 Zuggarnituren über­wiegend aus den Epochen III und IV statt. Aber auch Züge aus anderen Epochen verkehren zwischen den Bahnhöfen. \nDas Team in unserem Café Gleisblick bewirtet sie gerne. Wir bieten warme und kalte Getränke sowie selbst gebackene Kuchen an. Unsere Küche zaubert auch kleine warme Gerichte für sie\, wie z.B. Saiten­würstchen\, Maul­taschen oder Fleisch­käse mit Kartoffel­salat. Von den vorderen Plätzen haben Sie eine schöne Panoram­aaus­sicht über unsere Modellbahn­anlage. \nZu den Vorführ­tagen haben wir auch einen kleinen Modellbahn-Basar eingerichtet. Hier bieten wir gebrauchte Fahr­zeuge und Haus­bau­sätze in den Spuren H0\, N und Z an. Zudem können Sie hier unsere selbst­ ent­wickelte Zugschluss­beleuchtung\, unsere Servo-Ansteuerung und unsere Gleis­belegt­meldung als Bausatz erwerben. \nÖffnungszeiten jeweils 10 – 17 Uhr
URL:https://www.bdef.de/termine/modellbahn-im-betrieb-beim-mec-stuttgart-3/
LOCATION:S-Bahn-Station Universität Stuttgart-Vaihingen\, Universitätsstraße\, Stuttgart-Vaihingen
CATEGORIES:Fahrtag
ATTACH;FMTTYPE=image/jpeg:https://www.bdef.de/wp-content/uploads/MEC-Stuttgart.jpg
END:VEVENT
BEGIN:VEVENT
DTSTART;TZID=Europe/Berlin:20260106T100000
DTEND;TZID=Europe/Berlin:20260106T160000
DTSTAMP:20260421T105544
CREATED:20251103T160221Z
LAST-MODIFIED:20251103T160221Z
UID:1902-1767693600-1767715200@www.bdef.de
SUMMARY:Modelleisenbahnausstellung der PMW Winnenden
DESCRIPTION:Eintrittspreise: Erwachsene 6\,00 EUR\nKinder bis 5 Jahre Freitag Kinder (6-14 Jahre) 1\,50 EUR\nFamilienkarte für 2 Eltern/Großeltern mit max. 4 Kindern bis 14 Jahre 13\,00 EUR
URL:https://www.bdef.de/termine/modelleisenbahnausstellung-der-pmw-winnenden-10/
LOCATION:Vereinsheim PMW Winnenden e.V.\, Daimlerstr. 12\, Winnenden\, 71364
CATEGORIES:Fahrtag,Tag der offenen Tür
ATTACH;FMTTYPE=image/jpeg:https://www.bdef.de/wp-content/uploads/PMW.jpg
END:VEVENT
BEGIN:VEVENT
DTSTART;TZID=Europe/Berlin:20260104T100000
DTEND;TZID=Europe/Berlin:20260104T160000
DTSTAMP:20260421T105544
CREATED:20251103T160148Z
LAST-MODIFIED:20251103T160148Z
UID:1901-1767520800-1767542400@www.bdef.de
SUMMARY:Modelleisenbahnausstellung der PMW Winnenden
DESCRIPTION:Eintrittspreise: Erwachsene 6\,00 EUR\nKinder bis 5 Jahre Freitag Kinder (6-14 Jahre) 1\,50 EUR\nFamilienkarte für 2 Eltern/Großeltern mit max. 4 Kindern bis 14 Jahre 13\,00 EUR
URL:https://www.bdef.de/termine/modelleisenbahnausstellung-der-pmw-winnenden-9/
LOCATION:Vereinsheim PMW Winnenden e.V.\, Daimlerstr. 12\, Winnenden\, 71364
CATEGORIES:Fahrtag,Tag der offenen Tür
ATTACH;FMTTYPE=image/jpeg:https://www.bdef.de/wp-content/uploads/PMW.jpg
END:VEVENT
BEGIN:VEVENT
DTSTART;TZID=Europe/Berlin:20260103T110000
DTEND;TZID=Europe/Berlin:20260104T170000
DTSTAMP:20260421T105544
CREATED:20251017T063025Z
LAST-MODIFIED:20251017T063025Z
UID:1745-1767438000-1767546000@www.bdef.de
SUMMARY:24. Stettener Modellbahntage
DESCRIPTION:Große Modellbahnausstellung mit rund 20 tollen Anlagen aus dem In- und Ausland. Außerdem gibt es ein interessantes Rahemprogramm\, Kleinserienherstelle und eine Bewirtung. \nSamstag\, 03. Januar und Sonntag 04. Januar 2026 im Gemeindezentrum\, Rathausstraße 11\, 78570 Mühlheim-Stetten. \nSamstag von 11 – 18 Uhr\, Sonntag von 10 – 17 Uhr.
URL:https://www.bdef.de/termine/24-stettener-modellbahntage/
LOCATION:Gemeindezentrum Mühlheim-Stetten\, Rathausstraße 11\, Mühlheim-Stetten\, 78570\, Germany
CATEGORIES:Ausstellung,Börse
ATTACH;FMTTYPE=image/jpeg:https://www.bdef.de/wp-content/uploads/24.-Stettener-Modellbahntage.jpg
END:VEVENT
BEGIN:VEVENT
DTSTART;TZID=Europe/Berlin:20260101T100000
DTEND;TZID=Europe/Berlin:20260101T160000
DTSTAMP:20260421T105544
CREATED:20251103T160126Z
LAST-MODIFIED:20251103T160126Z
UID:1900-1767261600-1767283200@www.bdef.de
SUMMARY:Modelleisenbahnausstellung der PMW Winnenden
DESCRIPTION:Eintrittspreise: Erwachsene 6\,00 EUR\nKinder bis 5 Jahre Freitag Kinder (6-14 Jahre) 1\,50 EUR\nFamilienkarte für 2 Eltern/Großeltern mit max. 4 Kindern bis 14 Jahre 13\,00 EUR
URL:https://www.bdef.de/termine/modelleisenbahnausstellung-der-pmw-winnenden-8/
LOCATION:Vereinsheim PMW Winnenden e.V.\, Daimlerstr. 12\, Winnenden\, 71364
CATEGORIES:Fahrtag,Tag der offenen Tür
ATTACH;FMTTYPE=image/jpeg:https://www.bdef.de/wp-content/uploads/PMW.jpg
END:VEVENT
BEGIN:VEVENT
DTSTART;TZID=Europe/Berlin:20251228T100000
DTEND;TZID=Europe/Berlin:20251228T160000
DTSTAMP:20260421T105544
CREATED:20251103T160107Z
LAST-MODIFIED:20251103T160107Z
UID:1899-1766916000-1766937600@www.bdef.de
SUMMARY:Modelleisenbahnausstellung der PMW Winnenden
DESCRIPTION:Eintrittspreise: Erwachsene 6\,00 EUR\nKinder bis 5 Jahre Freitag Kinder (6-14 Jahre) 1\,50 EUR\nFamilienkarte für 2 Eltern/Großeltern mit max. 4 Kindern bis 14 Jahre 13\,00 EUR
URL:https://www.bdef.de/termine/modelleisenbahnausstellung-der-pmw-winnenden-7/
LOCATION:Vereinsheim PMW Winnenden e.V.\, Daimlerstr. 12\, Winnenden\, 71364
CATEGORIES:Fahrtag,Tag der offenen Tür
ATTACH;FMTTYPE=image/jpeg:https://www.bdef.de/wp-content/uploads/PMW.jpg
END:VEVENT
BEGIN:VEVENT
DTSTART;TZID=Europe/Berlin:20251226T100000
DTEND;TZID=Europe/Berlin:20251226T160000
DTSTAMP:20260421T105544
CREATED:20251103T160035Z
LAST-MODIFIED:20251103T160035Z
UID:1898-1766743200-1766764800@www.bdef.de
SUMMARY:Modelleisenbahnausstellung der PMW Winnenden
DESCRIPTION:Eintrittspreise: Erwachsene 6\,00 EUR\nKinder bis 5 Jahre Freitag Kinder (6-14 Jahre) 1\,50 EUR\nFamilienkarte für 2 Eltern/Großeltern mit max. 4 Kindern bis 14 Jahre 13\,00 EUR
URL:https://www.bdef.de/termine/modelleisenbahnausstellung-der-pmw-winnenden-6/
LOCATION:Vereinsheim PMW Winnenden e.V.\, Daimlerstr. 12\, Winnenden\, 71364
CATEGORIES:Fahrtag,Tag der offenen Tür
ATTACH;FMTTYPE=image/jpeg:https://www.bdef.de/wp-content/uploads/PMW.jpg
END:VEVENT
BEGIN:VEVENT
DTSTART;TZID=Europe/Berlin:20251221T100000
DTEND;TZID=Europe/Berlin:20251221T160000
DTSTAMP:20260421T105544
CREATED:20251103T155943Z
LAST-MODIFIED:20251103T155943Z
UID:1897-1766311200-1766332800@www.bdef.de
SUMMARY:Modelleisenbahnausstellung der PMW Winnenden
DESCRIPTION:Eintrittspreise: Erwachsene 6\,00 EUR\nKinder bis 5 Jahre Freitag Kinder (6-14 Jahre) 1\,50 EUR\nFamilienkarte für 2 Eltern/Großeltern mit max. 4 Kindern bis 14 Jahre 13\,00 EUR
URL:https://www.bdef.de/termine/modelleisenbahnausstellung-der-pmw-winnenden-5/
LOCATION:Vereinsheim PMW Winnenden e.V.\, Daimlerstr. 12\, Winnenden\, 71364
CATEGORIES:Fahrtag,Tag der offenen Tür
ATTACH;FMTTYPE=image/jpeg:https://www.bdef.de/wp-content/uploads/PMW.jpg
END:VEVENT
BEGIN:VEVENT
DTSTART;TZID=Europe/Berlin:20251214T100000
DTEND;TZID=Europe/Berlin:20251214T170000
DTSTAMP:20260421T105544
CREATED:20251017T064326Z
LAST-MODIFIED:20251017T064351Z
UID:1759-1765706400-1765731600@www.bdef.de
SUMMARY:Modellbahn im Betrieb beim MEC Stuttgart
DESCRIPTION:Üblicher­weise öffnen wir an fünf Tagen zu Weih­nachten unsere Club­räume mit der großen Modell­bahn­anlage für Besucher. Auf der Club­anlage findet dann ein reger Fahr­betrieb mit 80 bis 90 Zuggarnituren über­wiegend aus den Epochen III und IV statt. Aber auch Züge aus anderen Epochen verkehren zwischen den Bahnhöfen. \nDas Team in unserem Café Gleisblick bewirtet sie gerne. Wir bieten warme und kalte Getränke sowie selbst gebackene Kuchen an. Unsere Küche zaubert auch kleine warme Gerichte für sie\, wie z.B. Saiten­würstchen\, Maul­taschen oder Fleisch­käse mit Kartoffel­salat. Von den vorderen Plätzen haben Sie eine schöne Panoram­aaus­sicht über unsere Modellbahn­anlage. \nZu den Vorführ­tagen haben wir auch einen kleinen Modellbahn-Basar eingerichtet. Hier bieten wir gebrauchte Fahr­zeuge und Haus­bau­sätze in den Spuren H0\, N und Z an. Zudem können Sie hier unsere selbst­ ent­wickelte Zugschluss­beleuchtung\, unsere Servo-Ansteuerung und unsere Gleis­belegt­meldung als Bausatz erwerben. \nÖffnungszeiten jeweils 10 – 17 Uhr
URL:https://www.bdef.de/termine/modellbahn-im-betrieb-beim-mec-stuttgart-2/
LOCATION:S-Bahn-Station Universität Stuttgart-Vaihingen\, Universitätsstraße\, Stuttgart-Vaihingen
CATEGORIES:Fahrtag
ATTACH;FMTTYPE=image/jpeg:https://www.bdef.de/wp-content/uploads/MEC-Stuttgart.jpg
END:VEVENT
BEGIN:VEVENT
DTSTART;TZID=Europe/Berlin:20251214T100000
DTEND;TZID=Europe/Berlin:20251214T160000
DTSTAMP:20260421T105544
CREATED:20251130T194530Z
LAST-MODIFIED:20251130T194530Z
UID:1951-1765706400-1765728000@www.bdef.de
SUMMARY:Modellbahnausstellung des MEC Limburg-Hadamar e.V.
DESCRIPTION:Zahlreiche Modellbahnanlagen und Dioramen in verschiedenen Baugrößen
URL:https://www.bdef.de/termine/modellbahnausstellung-des-mec-limburg-hadamar-e-v/
LOCATION:MEC Limburg-Hadamar Clubheim\, Mühlstr. 1\, Holzheim\, 65558
ATTACH;FMTTYPE=image/jpeg:https://www.bdef.de/wp-content/uploads/MEC-Limburg-1.jpg
END:VEVENT
BEGIN:VEVENT
DTSTART;TZID=Europe/Berlin:20251214T100000
DTEND;TZID=Europe/Berlin:20251214T160000
DTSTAMP:20260421T105544
CREATED:20251103T155929Z
LAST-MODIFIED:20251103T155929Z
UID:1896-1765706400-1765728000@www.bdef.de
SUMMARY:Modelleisenbahnausstellung der PMW Winnenden
DESCRIPTION:Eintrittspreise: Erwachsene 6\,00 EUR\nKinder bis 5 Jahre Freitag Kinder (6-14 Jahre) 1\,50 EUR\nFamilienkarte für 2 Eltern/Großeltern mit max. 4 Kindern bis 14 Jahre 13\,00 EUR
URL:https://www.bdef.de/termine/modelleisenbahnausstellung-der-pmw-winnenden-4/
LOCATION:Vereinsheim PMW Winnenden e.V.\, Daimlerstr. 12\, Winnenden\, 71364
CATEGORIES:Fahrtag,Tag der offenen Tür
ATTACH;FMTTYPE=image/jpeg:https://www.bdef.de/wp-content/uploads/PMW.jpg
END:VEVENT
BEGIN:VEVENT
DTSTART;TZID=Europe/Berlin:20251207T110000
DTEND;TZID=Europe/Berlin:20251207T170000
DTSTAMP:20260421T105544
CREATED:20251030T072933Z
LAST-MODIFIED:20251030T072933Z
UID:1840-1765105200-1765126800@www.bdef.de
SUMMARY:Ausstellung der Modelleisenbahner Soest am 2. Advent
DESCRIPTION:Anlagen: Z\, N\, TT\, HO \nModellbahnbörse und Verkauf von US Modulen \nEintritt Erwachsene 4\,-€ \nEssen und Trinken \nParkplätze vorhanden
URL:https://www.bdef.de/termine/ausstellung-der-modelleisenbahner-soest-am-2-advent/
LOCATION:Vereinsheim Modelleisenbahner Soest\, Neuengeseker Heide 1\, Bad Sassendorf\, 59505
CATEGORIES:Ausstellung,Börse
ATTACH;FMTTYPE=image/jpeg:https://www.bdef.de/wp-content/uploads/MEB-Soest.jpeg
END:VEVENT
BEGIN:VEVENT
DTSTART;TZID=Europe/Berlin:20251207T100000
DTEND;TZID=Europe/Berlin:20251207T170000
DTSTAMP:20260421T105544
CREATED:20251017T064048Z
LAST-MODIFIED:20251017T064048Z
UID:1754-1765101600-1765126800@www.bdef.de
SUMMARY:Modellbahn im Betrieb beim MEC Stuttgart
DESCRIPTION:Üblicher­weise öffnen wir an fünf Tagen zu Weih­nachten unsere Club­räume mit der großen Modell­bahn­anlage für Besucher. Auf der Club­anlage findet dann ein reger Fahr­betrieb mit 80 bis 90 Zuggarnituren über­wiegend aus den Epochen III und IV statt. Aber auch Züge aus anderen Epochen verkehren zwischen den Bahnhöfen. \nDas Team in unserem Café Gleisblick bewirtet sie gerne. Wir bieten warme und kalte Getränke sowie selbst gebackene Kuchen an. Unsere Küche zaubert auch kleine warme Gerichte für sie\, wie z.B. Saiten­würstchen\, Maul­taschen oder Fleisch­käse mit Kartoffel­salat. Von den vorderen Plätzen haben Sie eine schöne Panoram­aaus­sicht über unsere Modellbahn­anlage. \nZu den Vorführ­tagen haben wir auch einen kleinen Modellbahn-Basar eingerichtet. Hier bieten wir gebrauchte Fahr­zeuge und Haus­bau­sätze in den Spuren H0\, N und Z an. Zudem können Sie hier unsere selbst­ ent­wickelte Zugschluss­beleuchtung\, unsere Servo-Ansteuerung und unsere Gleis­belegt­meldung als Bausatz erwerben. \nÖffnungszeiten jeweils 10 – 17 Uhr
URL:https://www.bdef.de/termine/modellbahn-im-betrieb-beim-mec-stuttgart/
LOCATION:S-Bahn-Station Universität Stuttgart-Vaihingen\, Universitätsstraße\, Stuttgart-Vaihingen
CATEGORIES:Fahrtag
ATTACH;FMTTYPE=image/jpeg:https://www.bdef.de/wp-content/uploads/MEC-Stuttgart.jpg
END:VEVENT
BEGIN:VEVENT
DTSTART;TZID=Europe/Berlin:20251207T100000
DTEND;TZID=Europe/Berlin:20251207T160000
DTSTAMP:20260421T105544
CREATED:20251103T155550Z
LAST-MODIFIED:20251103T155550Z
UID:1895-1765101600-1765123200@www.bdef.de
SUMMARY:Modelleisenbahnausstellung der PMW Winnenden
DESCRIPTION:Eintrittspreise: Erwachsene 6\,00 EUR\nKinder bis 5 Jahre Freitag Kinder (6-14 Jahre) 1\,50 EUR\nFamilienkarte für 2 Eltern/Großeltern mit max. 4 Kindern bis 14 Jahre 13\,00 EUR
URL:https://www.bdef.de/termine/modelleisenbahnausstellung-der-pmw-winnenden-3/
LOCATION:Vereinsheim PMW Winnenden e.V.\, Daimlerstr. 12\, Winnenden\, 71364
CATEGORIES:Fahrtag,Tag der offenen Tür
ATTACH;FMTTYPE=image/jpeg:https://www.bdef.de/wp-content/uploads/PMW.jpg
END:VEVENT
BEGIN:VEVENT
DTSTART;TZID=Europe/Berlin:20251206T100000
DTEND;TZID=Europe/Berlin:20251207T170000
DTSTAMP:20260421T105544
CREATED:20251126T084003Z
LAST-MODIFIED:20251126T084003Z
UID:1948-1765015200-1765126800@www.bdef.de
SUMMARY:Adventsausstellung Rathenower Modelleisenbahnverein e.V.
DESCRIPTION:Am 1. und 2. Adventswochenende ist es wieder soweit. Von 10:00 bis 17:00 Uhr öffnen wir für euch unsere Türen. Es gibt so manches Neues zu entdecken.
URL:https://www.bdef.de/termine/adventsausstellung-rathenower-modelleisenbahnverein-e-v-2/
LOCATION:Rathenower Modelleisenbahnverein e.V.\, Jahnstraße 27\, Rathenow\, 14712
CATEGORIES:Ausstellung
END:VEVENT
BEGIN:VEVENT
DTSTART;VALUE=DATE:20251202
DTEND;VALUE=DATE:20251203
DTSTAMP:20260421T105544
CREATED:20251202T075651Z
LAST-MODIFIED:20251202T075651Z
UID:1967-1764633600-1764719999@www.bdef.de
SUMMARY:Tag der Modelleisenbahn
DESCRIPTION:Der Tag der Modelleisenbahn findet jedes Jahr am 2. Dezember statt. Er wurde ins Leben gerufen\, um das Hobby Modelleisenbahn zu fördern\, Neugier zu wecken und sowohl Kindern als auch Erwachsenen die Faszination an Miniaturwelten näherzubringen. \nWas passiert typischerweise an diesem Tag? \n\nViele Modellbahnvereine und -clubs öffnen ihre Anlagen für Besucher.\nHändler und Hersteller nutzen den Tag\, um Neuheiten vorzustellen.\nMuseen und Ausstellungen bieten Sonderführungen oder reduzierte Eintrittspreise an.\nOnline finden häufig Livestreams\, Gewinnspiele und Sonderaktionen statt.
URL:https://www.bdef.de/termine/tag-der-modelleisenbahn/
END:VEVENT
BEGIN:VEVENT
DTSTART;TZID=Europe/Berlin:20251130T100000
DTEND;TZID=Europe/Berlin:20251130T170000
DTSTAMP:20260421T105544
CREATED:20251103T074744Z
LAST-MODIFIED:20251103T074839Z
UID:1883-1764496800-1764522000@www.bdef.de
SUMMARY:Tag der offenen Tür beim 1. Modellbahn-Club Augsburg e.V.
DESCRIPTION:Vereinsheim im Bärenkeller\, Täfertinger Weg 14\, Augsburg Zu sehen sind: Unsere H0 und N Anlage (digital) im Betrieb Der Eintritt ist frei
URL:https://www.bdef.de/termine/tag-der-offenen-tuer-beim-1-modellbahn-club-augsburg-e-v/
LOCATION:Vereinsheim 1. Modellbahn-Club Augsburg\, Täfertinger Weg 14\, Augsburg-Bärenkeller\, 86156
CATEGORIES:Fahrtag,Tag der offenen Tür
ATTACH;FMTTYPE=image/jpeg:https://www.bdef.de/wp-content/uploads/MECA.jpg
END:VEVENT
END:VCALENDAR