BEGIN:VCALENDAR
VERSION:2.0
PRODID:-//wp-events-plugin.com//7.2.3.1//EN
TZID:Europe/Berlin
X-WR-TIMEZONE:Europe/Berlin
BEGIN:VEVENT
UID:13@bdef.de
DTSTART;TZID=Europe/Berlin:20261205T003000
DTEND;TZID=Europe/Berlin:20261206T003000
DTSTAMP:20251213T113010Z
URL:https://www.bdef.de/events123/modellbahntotal/
SUMMARY:ModellbahnTotal!
DESCRIPTION:Test
CATEGORIES:BDEF
END:VEVENT
BEGIN:VTIMEZONE
TZID:Europe/Berlin
X-LIC-LOCATION:Europe/Berlin
BEGIN:STANDARD
DTSTART:20261025T020000
TZOFFSETFROM:+0200
TZOFFSETTO:+0100
TZNAME:CET
END:STANDARD
END:VTIMEZONE
END:VCALENDAR